BEGIN:VCALENDAR
VERSION:2.0
PRODID:http://www.pr-badkreuznach.de
BEGIN:VEVENT
UID:129caa47-3b9c-11f1-a3e9-0242ac11002b-1785135600000-de
DTSTAMP:20260419T030133Z
DTSTART:20260727T070000Z
DTEND:20260727T072500Z
SUMMARY;LANGUAGE=de:Rosenkranz
URL:http://www.pr-badkreuznach.de/aktuelles/gottesdienste/gottesdienst/Rosenkranz-2026.07.27/
END:VEVENT
END:VCALENDAR
