BEGIN:VCALENDAR
VERSION:2.0
PRODID:http://www.pr-badkreuznach.de
BEGIN:VEVENT
UID:12dc9988-3b9c-11f1-a3e9-0242ac11002b-1785164400000-de
DTSTAMP:20260419T030134Z
DTSTART:20260727T150000Z
DTEND:20260727T154500Z
SUMMARY;LANGUAGE=de: Rosenkranzandacht 
URL:http://www.pr-badkreuznach.de/aktuelles/gottesdienste/gottesdienst/Rosenkranzandacht-2026.07.27/
END:VEVENT
END:VCALENDAR
