BEGIN:VCALENDAR
VERSION:2.0
PRODID:http://www.pr-badkreuznach.de
BEGIN:VEVENT
UID:80e5cdc5-3d2e-11f1-a3e9-0242ac11002b-1785344400000-de
DTSTAMP:20260421T030216Z
DTSTART:20260729T170000Z
DTEND:20260729T172500Z
SUMMARY;LANGUAGE=de:Rosenkranzgebet
URL:http://www.pr-badkreuznach.de/aktuelles/gottesdienste/gottesdienst/Rosenkranzgebet-2026.07.29/
END:VEVENT
END:VCALENDAR
