BEGIN:VCALENDAR
VERSION:2.0
PRODID:http://www.pr-badkreuznach.de
BEGIN:VEVENT
UID:d34a70bb-3ec0-11f1-a3e9-0242ac11002b-1785515400000-de
DTSTAMP:20260423T030212Z
DTSTART:20260731T163000Z
DTEND:20260731T165500Z
SUMMARY;LANGUAGE=de:Rosenkranzgebet
URL:http://www.pr-badkreuznach.de/aktuelles/gottesdienste/gottesdienst/Rosenkranzgebet-2026.07.31/
END:VEVENT
END:VCALENDAR
